BEGIN:VCALENDAR
PRODID:-//AT Content Types//AT Event//EN
VERSION:1.0
BEGIN:VEVENT
DTSTART:20231211T140000Z
DTEND:20231213T020000Z
DCREATED:20230512T210018Z
UID:ATEvent-c06b8eaffc8047e2a2ab9e6e892c9716
SEQUENCE:0
LAST-MODIFIED:20230512T211308Z
SUMMARY:Washington Health Law Summit\, December 11-12\, 2023
DESCRIPTION:As the future of U.S. healthcare continues to evolve\, the
  21st Annual Washington Health Law Summit (WHS) is the one event you c
 an’t afford to miss!
LOCATION:he Ritz- Carlton\, Washington\, D.C.
PRIORITY:3
TRANSP:0
END:VEVENT
END:VCALENDAR
