BEGIN:VCALENDAR
PRODID:-//AT Content Types//AT Event//EN
VERSION:2.0
METHOD:PUBLISH
BEGIN:VEVENT
DTSTAMP:20260424T100507Z
CREATED:20140912T165016Z
UID:ATEvent-9fba02bf-ce49-4193-8518-c4017783d727
LAST-MODIFIED:20140912T165038Z
SUMMARY:DuPage County Medical Society Annual Meeting
DTSTART:20141008T050000Z
DTEND:20141008T050000Z
DESCRIPTION:October 8\, 2014  The Morton Arboretum  5:30 PM - 9:00 PM
LOCATION:The Morton Arboretum\, 4100 Illinois Route 53\, Lisle
CONTACT:Kirk G McMurray\, Executive Director\, 630.681.2870\, kirk@dcmsdocs.org
CLASS:PUBLIC
END:VEVENT
END:VCALENDAR
