BEGIN:VCALENDAR
PRODID:-//AT Content Types//AT Event//EN
VERSION:2.0
METHOD:PUBLISH
BEGIN:VEVENT
DTSTAMP:20260423T153526Z
CREATED:20240207T164427Z
UID:ATEvent-2753a6bf95af4305b9b01111cb01195d
LAST-MODIFIED:20240207T164433Z
SUMMARY:Illinois State Medical Society Annual Meeting\, April 6-7
DTSTART:20240406T050000Z
DTEND:20240408T045500Z
DESCRIPTION:ISMS annual meeting
LOCATION:20 N. Michigan Ave.\, Suite 700\, Chicago\, IL
CONTACT:312-853-4745
URL:https://www.isms.org/am
CLASS:PUBLIC
END:VEVENT
END:VCALENDAR
